BEGIN:VCALENDAR
VERSION:2.0
PRODID:-//wp-events-plugin.com//7.2.3.1//EN
TZID:Europe/Berlin
X-WR-TIMEZONE:Europe/Berlin
BEGIN:VEVENT
UID:25@msc-hansgrade.de
DTSTART;TZID=Europe/Berlin:20260711T000000
DTEND;TZID=Europe/Berlin:20260712T000000
DTSTAMP:20251221T150640Z
URL:https://www.msc-hansgrade.de/events/mitteldeutsche-modellbauausstellun
 g-pmc-leipzig/
SUMMARY:Mitteldeutsche Modellbauausstellung PMC Leipzig
DESCRIPTION:PMC Thüringen\, PMC Leipzig und die IG Modellbau Torgau laden 
 ein\n\nWo: Volkshaus Pegau\, Kirchplatz 3\, 04523 Pegau\n\nDetail:
END:VEVENT
BEGIN:VTIMEZONE
TZID:Europe/Berlin
X-LIC-LOCATION:Europe/Berlin
BEGIN:DAYLIGHT
DTSTART:20260329T030000
TZOFFSETFROM:+0100
TZOFFSETTO:+0200
TZNAME:CEST
END:DAYLIGHT
END:VTIMEZONE
END:VCALENDAR