BEGIN:VCALENDAR
VERSION:2.0
PRODID:-//wp-events-plugin.com//7.2.3.1//EN
TZID:Europe/Berlin
X-WR-TIMEZONE:Europe/Berlin
BEGIN:VEVENT
UID:30@msc-hansgrade.de
DTSTART;TZID=Europe/Berlin:20261024T000000
DTEND;TZID=Europe/Berlin:20261025T000000
DTSTAMP:20251222T121546Z
URL:https://www.msc-hansgrade.de/events/modellbauausstellung-hannover/
SUMMARY:Modellbauausstellung des VdPM Hannover
DESCRIPTION:Wo: 4G-Park in Wathlingen \n\nÖffnungszeiten sind am Samstag v
 on 10.00 Uhr - 18.00 Uhr und am Sonntag von 10.00 Uhr-17.00 Uhr\n\nAnmeldu
 ng bis 31.07.2026\, anmeldung@vdpm-hannover.de\n\nweitere Info`s:  Karste
 n Nicolay\, Schriftführer VdPM\nBreslauer Str. 4\n30853 Langenhagen\nTel.
  0511 73 29 71\nTel. 0160 88 81 633
END:VEVENT
BEGIN:VTIMEZONE
TZID:Europe/Berlin
X-LIC-LOCATION:Europe/Berlin
BEGIN:DAYLIGHT
DTSTART:20260329T030000
TZOFFSETFROM:+0100
TZOFFSETTO:+0200
TZNAME:CEST
END:DAYLIGHT
END:VTIMEZONE
END:VCALENDAR