BEGIN:VCALENDAR
VERSION:2.0
PRODID:-//wp-events-plugin.com//7.2.3.1//EN
TZID:Europe/Berlin
X-WR-TIMEZONE:Europe/Berlin
BEGIN:VEVENT
UID:28@msc-hansgrade.de
DTSTART;TZID=Europe/Berlin:20260926T000000
DTEND;TZID=Europe/Berlin:20260927T000000
DTSTAMP:20251221T145919Z
URL:https://www.msc-hansgrade.de/events/modellbauausstellung-holzminden/
SUMMARY:1. Holzmindener Modellbautage
DESCRIPTION:Modellbauausstellung zu Gunsten der DKKH\n\nWo:        Panz
 erpionierbataillon 1\, Pionierkaserne am Solling in Holzminden\n\n&nbsp\;
END:VEVENT
BEGIN:VTIMEZONE
TZID:Europe/Berlin
X-LIC-LOCATION:Europe/Berlin
BEGIN:DAYLIGHT
DTSTART:20260329T030000
TZOFFSETFROM:+0100
TZOFFSETTO:+0200
TZNAME:CEST
END:DAYLIGHT
END:VTIMEZONE
END:VCALENDAR