BEGIN:VCALENDAR
VERSION:2.0
PRODID:-//wp-events-plugin.com//7.2.3.1//EN
TZID:Europe/Berlin
X-WR-TIMEZONE:Europe/Berlin
BEGIN:VEVENT
UID:27@msc-hansgrade.de
DTSTART;TZID=Europe/Berlin:20261107T000000
DTEND;TZID=Europe/Berlin:20261108T000000
DTSTAMP:20251221T144735Z
URL:https://www.msc-hansgrade.de/events/modellbauausstellung-lohne/
SUMMARY:Modellbauausstellung Lohne
DESCRIPTION:Modellbau- und Eisenbahnausstellung im Gymnasium Lohne\,\nAn de
 r Kirchenziegelei 12\n49393 Lohne\n\nKontakt:  Karl-Heinz Dué\,\nkarl-he
 inz.due -at- ewetel.net\nModellbau Freunde Lohne
END:VEVENT
BEGIN:VTIMEZONE
TZID:Europe/Berlin
X-LIC-LOCATION:Europe/Berlin
BEGIN:STANDARD
DTSTART:20261025T020000
TZOFFSETFROM:+0200
TZOFFSETTO:+0100
TZNAME:CET
END:STANDARD
END:VTIMEZONE
END:VCALENDAR